BEGIN:VCALENDAR
PRODID:-//eluceo/ical//2.0/EN
VERSION:2.0
CALSCALE:GREGORIAN
BEGIN:VEVENT
UID:8840165298a596c8797b3bd3279e4974
DTSTAMP:20260420T145249Z
SUMMARY:Plauderlunch
DESCRIPTION:Web stranica: https://hrewards.com/de/steigenberger-inselhotel-
 konstanz
URL:https://rotary-kreuzlingen-konstanz.ch/bs/agenda/show/211757
DTSTART;TZID=Europe/Zurich:20260615T121500
DTEND;TZID=Europe/Zurich:20260615T134500
LOCATION:Steigenberger Inselhotel\, Steigenberger Inselhotel\, Auf der inse
 l 1\, 78462 Konstanz\, Deutschland
CATEGORIES:Rotary
END:VEVENT
BEGIN:VTIMEZONE
TZID:Europe/Zurich
BEGIN:DAYLIGHT
DTSTART:20260615T121500
TZNAME:CEST
TZOFFSETTO:+0200
TZOFFSETFROM:+0200
END:DAYLIGHT
END:VTIMEZONE
END:VCALENDAR
