BEGIN:VCALENDAR
PRODID:-//eluceo/ical//2.0/EN
VERSION:2.0
CALSCALE:GREGORIAN
BEGIN:VEVENT
UID:7bdbac3b624ead9603f2aa1b3f1f390d
DTSTAMP:20260421T122313Z
SUMMARY:Plauderdinner - kurzfristige Absage des Referates von Frau Dr. Seit
 zl
DESCRIPTION:Webseite: https://hrewards.com/de/steigenberger-inselhotel-kons
 tanz\nReferenten/innen: Dr. Lina Seitzel MdB
URL:https://rotary-kreuzlingen-konstanz.ch/de/agenda/show/183780
DTSTART;TZID=Europe/Zurich:20240930T190000
DTEND;TZID=Europe/Zurich:20240930T220000
LOCATION:Steigenberger Inselhotel\, Steigenberger Inselhotel\, Auf der inse
 l 1\, 78462 Konstanz\, Deutschland
CATEGORIES:Rotary
END:VEVENT
BEGIN:VTIMEZONE
TZID:Europe/Zurich
BEGIN:DAYLIGHT
DTSTART:20240930T190000
TZNAME:CEST
TZOFFSETTO:+0200
TZOFFSETFROM:+0200
END:DAYLIGHT
END:VTIMEZONE
END:VCALENDAR
