BEGIN:VCALENDAR
PRODID:-//eluceo/ical//2.0/EN
VERSION:2.0
CALSCALE:GREGORIAN
BEGIN:VEVENT
UID:3a5c6d98400fa38e548739f3f139b9a3
DTSTAMP:20260420T145401Z
SUMMARY:Berufsfischerei am Bodensee - Gegenwart und Zukunft
DESCRIPTION:Webseite: http://www.hrewards.com\nReferenten/innen: Reto Leuch
 \, Berufsfischer aus Landschlacht
URL:https://rotary-kreuzlingen-konstanz.ch/de/agenda/show/190801
DTSTART;TZID=Europe/Zurich:20250203T121500
DTEND;TZID=Europe/Zurich:20250203T134500
LOCATION:Steigenberger Inselhotel\, Steigenberger Inselhotel\, Auf der inse
 l 1\, 78462 Konstanz\, Deutschland
CATEGORIES:Rotary
END:VEVENT
BEGIN:VTIMEZONE
TZID:Europe/Zurich
BEGIN:STANDARD
DTSTART:20250203T121500
TZNAME:CET
TZOFFSETTO:+0100
TZOFFSETFROM:+0100
END:STANDARD
END:VTIMEZONE
END:VCALENDAR
