BEGIN:VCALENDAR
PRODID:-//eluceo/ical//2.0/EN
VERSION:2.0
CALSCALE:GREGORIAN
BEGIN:VEVENT
UID:fdd2d13b1b4aed29bb23f7242c3bfc54
DTSTAMP:20260422T090942Z
SUMMARY:PIE - Program for international exchange Rotary: Wie weiter?
DESCRIPTION:Webseite: https://hrewards.com/de/steigenberger-inselhotel-kons
 tanz\nReferenten/innen: Frank Palm\, RC Konstanz-Rheintor
URL:https://rotary-kreuzlingen-konstanz.ch/de/agenda/show/191221
DTSTART;TZID=Europe/Zurich:20250127T190000
DTEND;TZID=Europe/Zurich:20250127T220000
LOCATION:Steigenberger Inselhotel\, Steigenberger Inselhotel\, Auf der inse
 l 1\, 78462 Konstanz\, Deutschland
CATEGORIES:Rotary
END:VEVENT
BEGIN:VTIMEZONE
TZID:Europe/Zurich
BEGIN:STANDARD
DTSTART:20250127T190000
TZNAME:CET
TZOFFSETTO:+0100
TZOFFSETFROM:+0100
END:STANDARD
END:VTIMEZONE
END:VCALENDAR
