BEGIN:VCALENDAR
PRODID:-//eluceo/ical//2.0/EN
VERSION:2.0
CALSCALE:GREGORIAN
BEGIN:VEVENT
UID:30943e759761781780c3838690d49672
DTSTAMP:20260420T164220Z
SUMMARY:Aemterübergabe!
DESCRIPTION:Referenten/innen: Seraina Perini Allemann übergibt ihr Amt an 
 Jean-Claude Parent!
URL:https://rotary-kreuzlingen-konstanz.ch/de/agenda/show/211759
DTSTART;TZID=Europe/Zurich:20260629T190000
DTEND;TZID=Europe/Zurich:20260629T220000
LOCATION:Ort wird noch bekannt gegeben!
CATEGORIES:Rotary
END:VEVENT
BEGIN:VTIMEZONE
TZID:Europe/Zurich
BEGIN:DAYLIGHT
DTSTART:20260629T190000
TZNAME:CEST
TZOFFSETTO:+0200
TZOFFSETFROM:+0200
END:DAYLIGHT
END:VTIMEZONE
END:VCALENDAR
