BEGIN:VCALENDAR
PRODID:-//eluceo/ical//2.0/EN
VERSION:2.0
CALSCALE:GREGORIAN
BEGIN:VEVENT
UID:5b8f9cd4517217541ee36172f4f8a49b
DTSTAMP:20260423T125403Z
SUMMARY:Die Volkshochschule Konstanz-Singen
DESCRIPTION:Conférencier(s): Frau Nikola Verling
URL:https://rotary-kreuzlingen-konstanz.ch/fr/agenda/show/53249
DTSTART;TZID=Europe/Zurich:20150713T000000
DTEND;TZID=Europe/Zurich:20150713T000000
LOCATION:Drachenburg & Waaghaus Gottlieben
CATEGORIES:Rotary
END:VEVENT
BEGIN:VTIMEZONE
TZID:Europe/Zurich
BEGIN:DAYLIGHT
DTSTART:20150713T000000
TZNAME:CEST
TZOFFSETTO:+0200
TZOFFSETFROM:+0200
END:DAYLIGHT
END:VTIMEZONE
END:VCALENDAR
