BEGIN:VCALENDAR
PRODID:-//eluceo/ical//2.0/EN
VERSION:2.0
CALSCALE:GREGORIAN
BEGIN:VEVENT
UID:f6a7c911369ac3d0e7cd0d38960e895d
DTSTAMP:20260423T001405Z
SUMMARY:Besuch Ekkharthof\, Lengwil
DESCRIPTION:Sito web: https://www.ekkharthof.ch\nRelatore/i: Stanko Gobac\,
  Institutsleiter
URL:https://rotary-kreuzlingen-konstanz.ch/it/agenda/show/175905
DTSTART;TZID=Europe/Zurich:20240610T120000
DTEND;TZID=Europe/Zurich:20240610T133000
LOCATION:Ekkharthof\, Lengwil
CATEGORIES:Rotary
END:VEVENT
BEGIN:VTIMEZONE
TZID:Europe/Zurich
BEGIN:DAYLIGHT
DTSTART:20240610T120000
TZNAME:CEST
TZOFFSETTO:+0200
TZOFFSETFROM:+0200
END:DAYLIGHT
END:VTIMEZONE
END:VCALENDAR
