BEGIN:VCALENDAR
PRODID:-//eluceo/ical//2.0/EN
VERSION:2.0
CALSCALE:GREGORIAN
BEGIN:VEVENT
UID:f8e90b93c2a8ad623aa372742f2d6602
DTSTAMP:20260423T015739Z
SUMMARY:Grenzbar
DESCRIPTION:Relatore/i: liebe grenzbar-gänger!der wettergott ist uns hold 
 und die grenzbar heute abend kann stattfinden!wir freuen uns auf das stel
 ldichein mit euch! ab 19h!für das „ok“ - mit herzlichen grüssen\,e
 va
URL:https://rotary-kreuzlingen-konstanz.ch/it/agenda/show/176485
DTSTART;TZID=Europe/Zurich:20240617T190000
DTEND;TZID=Europe/Zurich:20240617T220000
LOCATION:Wie jedes Jahr an der (Kunst-) Grenze Kreuzlingen-Konstanz (hinter
  Bodenseearena)
CATEGORIES:Rotary
END:VEVENT
BEGIN:VTIMEZONE
TZID:Europe/Zurich
BEGIN:DAYLIGHT
DTSTART:20240617T190000
TZNAME:CEST
TZOFFSETTO:+0200
TZOFFSETFROM:+0200
END:DAYLIGHT
END:VTIMEZONE
END:VCALENDAR
