BEGIN:VCALENDAR
PRODID:-//eluceo/ical//2.0/EN
VERSION:2.0
CALSCALE:GREGORIAN
BEGIN:VEVENT
UID:185e3be3de28cd8d333eb953931c77c9
DTSTAMP:20260419T131207Z
SUMMARY:Wanderung Seebachtal
DESCRIPTION:Relatore/i: Rot. Humbert Entress
URL:https://rotary-kreuzlingen-konstanz.ch/it/agenda/show/211700
DTSTART;TZID=Europe/Zurich:20260425T090000
DTEND;TZID=Europe/Zurich:20260425T123000
LOCATION:Strandbad Hüttwilersee
CATEGORIES:Rotary
END:VEVENT
BEGIN:VTIMEZONE
TZID:Europe/Zurich
BEGIN:DAYLIGHT
DTSTART:20260425T090000
TZNAME:CEST
TZOFFSETTO:+0200
TZOFFSETFROM:+0200
END:DAYLIGHT
END:VTIMEZONE
END:VCALENDAR
