BEGIN:VCALENDAR
PRODID:-//eluceo/ical//2.0/EN
VERSION:2.0
CALSCALE:GREGORIAN
BEGIN:VEVENT
UID:8ca35d5afc8084743440d11126bb2a07
DTSTAMP:20260423T033113Z
SUMMARY:Chocolat Bernrain
DESCRIPTION:Relatore/i: Frühstücksmeeting: 7.00h Betriebsbesichtigung der
  Chocolat Bernrain mit unserer Präsidentin Monica Müller\, Geschäftsfü
 hrerin der "Schocki" .
URL:https://rotary-kreuzlingen-konstanz.ch/it/agenda/show/54103
DTSTART;TZID=Europe/Zurich:20150803T070000
DTEND;TZID=Europe/Zurich:20150803T070000
LOCATION:Chocolat Bernrain\, Bündtstrasse 12\, 8280 Kreuzlingen
CATEGORIES:Rotary
END:VEVENT
BEGIN:VTIMEZONE
TZID:Europe/Zurich
BEGIN:DAYLIGHT
DTSTART:20150803T070000
TZNAME:CEST
TZOFFSETTO:+0200
TZOFFSETFROM:+0200
END:DAYLIGHT
END:VTIMEZONE
END:VCALENDAR
