BEGIN:VCALENDAR
PRODID:-//eluceo/ical//2.0/EN
VERSION:2.0
CALSCALE:GREGORIAN
BEGIN:VEVENT
UID:6f313c6636fb52c0ab3c3b6ebb1a72e2
DTSTAMP:20260423T050919Z
SUMMARY:Plauderlunch
DESCRIPTION:
URL:https://rotary-kreuzlingen-konstanz.ch/it/agenda/show/54546
DTSTART;TZID=Europe/Zurich:20150810T000000
DTEND;TZID=Europe/Zurich:20150810T000000
LOCATION:Drachenburg & Waaghaus Gottlieben
CATEGORIES:Rotary
END:VEVENT
BEGIN:VTIMEZONE
TZID:Europe/Zurich
BEGIN:DAYLIGHT
DTSTART:20150810T000000
TZNAME:CEST
TZOFFSETTO:+0200
TZOFFSETFROM:+0200
END:DAYLIGHT
END:VTIMEZONE
END:VCALENDAR
