BEGIN:VCALENDAR
PRODID:-//eluceo/ical//2.0/EN
VERSION:2.0
CALSCALE:GREGORIAN
BEGIN:VEVENT
UID:6cd4a4c3fa73787e171d8c16427ce7d6
DTSTAMP:20260423T022511Z
SUMMARY:Präsenzapéro 
DESCRIPTION:
URL:https://rotary-kreuzlingen-konstanz.ch/it/agenda/show/57914
DTSTART;TZID=Europe/Zurich:20150304T183000
DTEND;TZID=Europe/Zurich:20150304T183000
LOCATION:Hotel 47˚Konstanz
CATEGORIES:Rotary
END:VEVENT
BEGIN:VTIMEZONE
TZID:Europe/Zurich
BEGIN:STANDARD
DTSTART:20150304T183000
TZNAME:CET
TZOFFSETTO:+0100
TZOFFSETFROM:+0100
END:STANDARD
END:VTIMEZONE
END:VCALENDAR
