BEGIN:VCALENDAR
PRODID:-//eluceo/ical//2.0/EN
VERSION:2.0
CALSCALE:GREGORIAN
BEGIN:VEVENT
UID:d0c30aa913ed1037c1479b572ed10be1
DTSTAMP:20260424T091841Z
SUMMARY:Führung durch den Kreuzgang des Inselhotels und Outdoor dining
DESCRIPTION:Webbplats: http://www.hrewards.com\nTalare: Kunsthistoriker
URL:https://rotary-kreuzlingen-konstanz.ch/sv/agenda/show/182894
DTSTART;TZID=Europe/Zurich:20240729T190000
DTEND;TZID=Europe/Zurich:20240729T220000
LOCATION:Steigenberger Inselhotel\, Steigenberger Inselhotel\, Auf der inse
 l 1\, 78462 Konstanz\, Deutschland
CATEGORIES:Rotary
END:VEVENT
BEGIN:VTIMEZONE
TZID:Europe/Zurich
BEGIN:DAYLIGHT
DTSTART:20240729T190000
TZNAME:CEST
TZOFFSETTO:+0200
TZOFFSETFROM:+0200
END:DAYLIGHT
END:VTIMEZONE
END:VCALENDAR
