BEGIN:VCALENDAR
PRODID:-//eluceo/ical//2.0/EN
VERSION:2.0
CALSCALE:GREGORIAN
BEGIN:VEVENT
UID:9cadaf6a18b38cd22149a736d9d8c7d8
DTSTAMP:20260420T110627Z
SUMMARY:Plauderlunch auf der Terrasse des Inselhotels
DESCRIPTION:Webbplats: http://www.hrewards.com\nTalare: Es erwartet uns ein
 e kleine Überraschung!
URL:https://rotary-kreuzlingen-konstanz.ch/sv/agenda/show/183313
DTSTART;TZID=Europe/Zurich:20240812T121500
DTEND;TZID=Europe/Zurich:20240812T134500
LOCATION:Steigenberger Inselhotel\, Steigenberger Inselhotel\, Auf der inse
 l 1\, 78462 Konstanz\, Deutschland
CATEGORIES:Rotary
END:VEVENT
BEGIN:VTIMEZONE
TZID:Europe/Zurich
BEGIN:DAYLIGHT
DTSTART:20240812T121500
TZNAME:CEST
TZOFFSETTO:+0200
TZOFFSETFROM:+0200
END:DAYLIGHT
END:VTIMEZONE
END:VCALENDAR
