BEGIN:VCALENDAR
PRODID:-//eluceo/ical//2.0/EN
VERSION:2.0
CALSCALE:GREGORIAN
BEGIN:VEVENT
UID:c2f58edd92cd25ef9ea155c3ac102195
DTSTAMP:20260420T125231Z
SUMMARY:Water Survival Box
DESCRIPTION:Webbplats: https://hrewards.com/de/steigenberger-inselhotel-kon
 stanz\nTalare: Marco Baur\, RC Zürich-Sihltal
URL:https://rotary-kreuzlingen-konstanz.ch/sv/agenda/show/183314
DTSTART;TZID=Europe/Zurich:20240819T121500
DTEND;TZID=Europe/Zurich:20240819T134500
LOCATION:Steigenberger Inselhotel\, Steigenberger Inselhotel\, Auf der inse
 l 1\, 78462 Konstanz\, Deutschland
CATEGORIES:Rotary
END:VEVENT
BEGIN:VTIMEZONE
TZID:Europe/Zurich
BEGIN:DAYLIGHT
DTSTART:20240819T121500
TZNAME:CEST
TZOFFSETTO:+0200
TZOFFSETFROM:+0200
END:DAYLIGHT
END:VTIMEZONE
END:VCALENDAR
