BEGIN:VCALENDAR
PRODID:-//eluceo/ical//2.0/EN
VERSION:2.0
CALSCALE:GREGORIAN
BEGIN:VEVENT
UID:786bc2edd5d899774c3b3fffa152b9a5
DTSTAMP:20260420T142256Z
SUMMARY:Bootsfahrt in die Konstanzer Bucht ab Hafen Bottighofen
DESCRIPTION:Talare: 
URL:https://rotary-kreuzlingen-konstanz.ch/sv/agenda/show/183316
DTSTART;TZID=Europe/Zurich:20240826T181500
DTEND;TZID=Europe/Zurich:20240826T220000
LOCATION:Hafen Bottighofen
CATEGORIES:Rotary
END:VEVENT
BEGIN:VTIMEZONE
TZID:Europe/Zurich
BEGIN:DAYLIGHT
DTSTART:20240826T181500
TZNAME:CEST
TZOFFSETTO:+0200
TZOFFSETFROM:+0200
END:DAYLIGHT
END:VTIMEZONE
END:VCALENDAR
