BEGIN:VCALENDAR
PRODID:-//eluceo/ical//2.0/EN
VERSION:2.0
CALSCALE:GREGORIAN
BEGIN:VEVENT
UID:c6e7d825af5d3712fb818b1bf63aef25
DTSTAMP:20260420T161221Z
SUMMARY:Erfahrungen eines Schriftstellers beim Schreiben eines Erstromans
DESCRIPTION:Webbplats: https://hrewards.com/de/steigenberger-inselhotel-kon
 stanz\nTalare: Wilfried Lux
URL:https://rotary-kreuzlingen-konstanz.ch/sv/agenda/show/183330
DTSTART;TZID=Europe/Zurich:20240902T121500
DTEND;TZID=Europe/Zurich:20240902T134500
LOCATION:Steigenberger Inselhotel\, Steigenberger Inselhotel\, Auf der inse
 l 1\, 78462 Konstanz\, Deutschland
CATEGORIES:Rotary
END:VEVENT
BEGIN:VTIMEZONE
TZID:Europe/Zurich
BEGIN:DAYLIGHT
DTSTART:20240902T121500
TZNAME:CEST
TZOFFSETTO:+0200
TZOFFSETFROM:+0200
END:DAYLIGHT
END:VTIMEZONE
END:VCALENDAR
